BEGIN:VCALENDAR
VERSION:2.0
PRODID:-// - ECPv6.15.20//NONSGML v1.0//EN
CALSCALE:GREGORIAN
METHOD:PUBLISH
X-ORIGINAL-URL:https://la-tavola.com
X-WR-CALDESC:Events for 
REFRESH-INTERVAL;VALUE=DURATION:PT1H
X-Robots-Tag:noindex
X-PUBLISHED-TTL:PT1H
BEGIN:VTIMEZONE
TZID:UTC
BEGIN:STANDARD
TZOFFSETFROM:+0000
TZOFFSETTO:+0000
TZNAME:UTC
DTSTART:20150101T000000
END:STANDARD
END:VTIMEZONE
BEGIN:VEVENT
DTSTART;TZID=UTC:20231231T160000
DTEND;TZID=UTC:20231231T170000
DTSTAMP:20260426T015450
CREATED:20230814T171329Z
LAST-MODIFIED:20230814T171329Z
UID:1397-1704038400-1704042000@la-tavola.com
SUMMARY:New Years Eve Dinner
DESCRIPTION:Join us for a great dinner before bringing in the new year! \nMore details to come
URL:https://la-tavola.com/event/new-years-eve-dinner/
LOCATION:La Tavola\, 248 Albemarle St\, Baltimore\, Maryland\, 21202
CATEGORIES:Events
ATTACH;FMTTYPE=image/jpeg:https://la-tavola.com/wp-content/uploads/2023/08/new-years-eve-generic.jpg
END:VEVENT
BEGIN:VEVENT
DTSTART;TZID=UTC:20231225T120000
DTEND;TZID=UTC:20231225T170000
DTSTAMP:20260426T015450
CREATED:20230814T170754Z
LAST-MODIFIED:20230814T170754Z
UID:1393-1703505600-1703523600@la-tavola.com
SUMMARY:Christmas Dinner
DESCRIPTION:Let us do the cooking and make a reservation to have dinner with us! \nMenu and details to come
URL:https://la-tavola.com/event/christmas-dinner/
LOCATION:La Tavola\, 248 Albemarle St\, Baltimore\, Maryland\, 21202
CATEGORIES:Events
ATTACH;FMTTYPE=image/jpeg:https://la-tavola.com/wp-content/uploads/2023/08/christmas-dinner-generic.jpg
END:VEVENT
BEGIN:VEVENT
DTSTART;TZID=UTC:20231224T120000
DTEND;TZID=UTC:20231224T170000
DTSTAMP:20260426T015450
CREATED:20230814T163713Z
LAST-MODIFIED:20230814T163713Z
UID:1390-1703419200-1703437200@la-tavola.com
SUMMARY:The Feast of the Seven Fishes
DESCRIPTION:Join us for a holiday tradition this Christmas Eve with our Feast of the Seven Fishes \nMenu and more details to come!
URL:https://la-tavola.com/event/the-feast-of-the-seven-fishes/
LOCATION:La Tavola\, 248 Albemarle St\, Baltimore\, Maryland\, 21202
CATEGORIES:Events
ATTACH;FMTTYPE=image/jpeg:https://la-tavola.com/wp-content/uploads/2022/12/feast-of-seven-fishes.jpg
END:VEVENT
BEGIN:VEVENT
DTSTART;TZID=UTC:20231214T180000
DTEND;TZID=UTC:20231214T180000
DTSTAMP:20260426T015450
CREATED:20230814T163100Z
LAST-MODIFIED:20230814T163100Z
UID:1382-1702576800-1702576800@la-tavola.com
SUMMARY:Bourbon Tasting
DESCRIPTION:Join us for a bourbon tasting Thursday\, December 14th \nMore details to come!
URL:https://la-tavola.com/event/bourbon-tasting-2/
LOCATION:La Tavola\, 248 Albemarle St\, Baltimore\, Maryland\, 21202
CATEGORIES:Events
ATTACH;FMTTYPE=image/jpeg:https://la-tavola.com/wp-content/uploads/2023/08/Bourbon-Tasting-generic.jpg
END:VEVENT
BEGIN:VEVENT
DTSTART;TZID=UTC:20231207T180000
DTEND;TZID=UTC:20231207T180000
DTSTAMP:20260426T015450
CREATED:20230814T163506Z
LAST-MODIFIED:20230814T163506Z
UID:1386-1701972000-1701972000@la-tavola.com
SUMMARY:Family Style Wine Tasting
DESCRIPTION:Join us for a family style wine tasting Thursday\, December 7th \nMore details to follow
URL:https://la-tavola.com/event/family-style-wine-tasting-2/
LOCATION:La Tavola\, 248 Albemarle St\, Baltimore\, Maryland\, 21202
CATEGORIES:Events
ATTACH;FMTTYPE=image/jpeg:https://la-tavola.com/wp-content/uploads/2023/08/wine-tasting-generic.jpg
END:VEVENT
BEGIN:VEVENT
DTSTART;TZID=UTC:20230921T180000
DTEND;TZID=UTC:20230921T200000
DTSTAMP:20260426T015450
CREATED:20230814T162111Z
LAST-MODIFIED:20230814T162301Z
UID:1376-1695319200-1695326400@la-tavola.com
SUMMARY:Family Style Wine Tasting
DESCRIPTION:Take a tour of Venice with Chef Carlo Vignotto featuring locally sourced ingredients\, farm fresh vegetables\, handmade pasta\, and a Lamb Arrosto carving station complimented by Italian wines including Gavi\, Chianti Classico\, Pinot Grigio\, and Valpolicella Superiore. \nPresented by Certified Sommelier Lee Platt \n$70 per person \nLimited Seating – Reservations Required – $25 charge for cancellations after September 18th
URL:https://la-tavola.com/event/family-style-wine-tasting/
LOCATION:La Tavola\, 248 Albemarle St\, Baltimore\, Maryland\, 21202
CATEGORIES:Events
ATTACH;FMTTYPE=image/jpeg:https://la-tavola.com/wp-content/uploads/2023/08/Fall-Wine-Tasting-9.21.23.jpg
END:VEVENT
BEGIN:VEVENT
DTSTART;VALUE=DATE:20230915
DTEND;VALUE=DATE:20230925
DTSTAMP:20260426T015450
CREATED:20230814T195300Z
LAST-MODIFIED:20230814T195300Z
UID:1411-1694736000-1695599999@la-tavola.com
SUMMARY:Restaurant Week
DESCRIPTION:Enjoy a three course price fixed menu created by Chef Carlo.\nRestaurant Week menu coming soon.
URL:https://la-tavola.com/event/restaurant-week-2/
LOCATION:La Tavola\, 248 Albemarle St\, Baltimore\, Maryland\, 21202
CATEGORIES:Events
ATTACH;FMTTYPE=image/jpeg:https://la-tavola.com/wp-content/uploads/2023/08/restaurant-week-fall-2023.jpg
END:VEVENT
BEGIN:VEVENT
DTSTART;TZID=UTC:20230615T180000
DTEND;TZID=UTC:20230615T203000
DTSTAMP:20260426T015450
CREATED:20230518T185456Z
LAST-MODIFIED:20230518T185456Z
UID:1354-1686852000-1686861000@la-tavola.com
SUMMARY:Wine Tasting
DESCRIPTION:Join us for family style wine tasting on June 15\, 2023 at 6pm. \n  \nChef Carlo will take you through a tour of Venice with locally sourced ingredients\, farm fresh vegetables\, handmade pasta and a full fish carving station all complimented by the Terlato Wine Collection presented by Michael McAvoy. \n  \n  \n 
URL:https://la-tavola.com/event/wine-tasting-2/
LOCATION:La Tavola\, 248 Albemarle St\, Baltimore\, Maryland\, 21202
ATTACH;FMTTYPE=image/jpeg:https://la-tavola.com/wp-content/uploads/2023/05/JUNE-2023-WINE-TASTING.jpeg
END:VEVENT
BEGIN:VEVENT
DTSTART;TZID=UTC:20230309T183000
DTEND;TZID=UTC:20230309T210000
DTSTAMP:20260426T015450
CREATED:20230203T215253Z
LAST-MODIFIED:20230203T215253Z
UID:1323-1678386600-1678395600@la-tavola.com
SUMMARY:Wine Tasting
DESCRIPTION:Join us for a wine tasting March 9th at 6:30pm \nChef Carlo will present a family style seafood dinner featuring full fish filet tableside complimented by wines from Italy presented by Filipo Lapides.
URL:https://la-tavola.com/event/wine-tasting/
LOCATION:La Tavola\, 248 Albemarle St\, Baltimore\, Maryland\, 21202
CATEGORIES:Events
ATTACH;FMTTYPE=image/jpeg:https://la-tavola.com/wp-content/uploads/2023/02/wine-tasting-3.9.23.jpg
END:VEVENT
BEGIN:VEVENT
DTSTART;TZID=UTC:20230223T180000
DTEND;TZID=UTC:20230223T180000
DTSTAMP:20260426T015450
CREATED:20230203T215330Z
LAST-MODIFIED:20230203T215728Z
UID:1318-1677175200-1677175200@la-tavola.com
SUMMARY:Bourbon Tasting
DESCRIPTION:Enjoy Prestige Bourbon Tasting featuring Nulu\, Bardstown\, Doc Swinson\, Blue Run and more with a minimum of 8 – 1/2 oz pours of collector’s edition bourbons.  Chef Carlo will compliment each tasting with a meat focused family style menu with Filet Mignon\, Carpaccio\, Bresaola\, roasted Wild Boar\, tossed with handmade pasta and more
URL:https://la-tavola.com/event/bourbon-tasting/
LOCATION:Maryland
CATEGORIES:Events
ATTACH;FMTTYPE=image/jpeg:https://la-tavola.com/wp-content/uploads/2023/02/Bourbon-Tasting-2.23.23.jpg
END:VEVENT
BEGIN:VEVENT
DTSTART;TZID=UTC:20161224T113000
DTEND;TZID=UTC:20161224T213000
DTSTAMP:20260426T015450
CREATED:20161213T070410Z
LAST-MODIFIED:20161214T181537Z
UID:443-1482579000-1482615000@la-tavola.com
SUMMARY:The Feast of 7 Fishes
DESCRIPTION:“LA VIGLIA DI NATALE” ON DECEMBER 24\, ITALIAN FAMILIES ALL OVER THE WORLD GATHER TOGETHER FOR LA VIGLIA DI NATALE–THE CHRISTMAS VIGIL–WHERE FISH IS ON THE MENU INSTEAD OF MEAT. COME CELEBRATE WITH US ON THIS WONDERFUL OCCASION! \nWe will be featuring: \n\nSardine in Saor\nFritto Misto (Calamari)\nOctopus Salad\nScallops\nBaccala (Cod Fish)\nShrimp\nBay Scallops
URL:https://la-tavola.com/event/the-feast-of-7-fishes/
LOCATION:Maryland
CATEGORIES:Events
ATTACH;FMTTYPE=image/jpeg:https://la-tavola.com/wp-content/uploads/2016/10/127_-2015-Linda-Johnson-Photography_IMG_0051-1.jpg
END:VEVENT
BEGIN:VEVENT
DTSTART;TZID=UTC:20161220T113000
DTEND;TZID=UTC:20161220T213000
DTSTAMP:20260426T015450
CREATED:20161213T070810Z
LAST-MODIFIED:20161214T182241Z
UID:445-1482233400-1482269400@la-tavola.com
SUMMARY:Restaurant Week
DESCRIPTION:$15 RESTAURANT WEEK LUNCH MENU\nANTIPASTI\nZUCCHINI FRITTI\nLightly battered & flash fried; zucchini\, onion rings\, cherry tomatoes & fresh basil \nCOZZE ALLA MARINARA\nSautéed mussels served in a robust house-made tomato sauce \nINSALTA MISTA\nFresh field greens tossed with carrots\, cucumbers\, tomatoes & balsamic vinaigrette \nINSALATA ROMANA\nCrisp Romaine lettuce tossed with croutons\, Parmesan Reggiano & house made Caesar dressing \nZUPPA DEL GIORNO\nOur house-made soup of the day! \nENTREES\nAGNOLOTTI ALLA CREMA\nAll natural Roseda Filet Mignon; grilled to temperature of choice; in a porcini mushroom red wine reduction sauce; served over house-made crostini \nPENNE CON VEGETALI\nHouse-made penne with mixed vegetables served in a white wine garlic sauce \nVITELLO ALL CREMA\nThinly sliced veal sautéed with Porchini & Champignon mushrooms in a rich cream sauce \nGNOCCHI POMODORO\nHouse-made potato dumplings with a pinch of nutmeg served in a robust tomato sauce \nDOLCI ($4.50)\nCANNOLI \nTIRAMISU CHEESECAKE \n\n$35 RESTAURANT WEEK DINNER MENU\nANTIPASTI\nCARPACCIO DI BIETOLI E NOCI\nFresh arugula with beets\, walnuts\, & Parmigiano Reggiano finished with a lemon dressing \nINSALATA MISTA\nMixed field greens with tomatoes\, carrots\, & cucumbers in a balsamic vinaigrette \nCAMPO CON CAPRINO\nMixed field greens with goat cheese & walnuts in a basil lemon vinaigrette \nCALAMARI FRITTI E VEGETALI\nLightly floured & flash fried; calamari\, eggplant\, & zucchini \nZUPPA DEL GIORNO\nOur house-made soup of the day! \nENTREES\nPOLLO ALLA MANDORLE\nChicken breast sautéed with capers & almonds in a lemon white wine sauce; accompanied by the vegetables of the day \nVITELLO ALLA NORCINA\nThinly sliced veal\, Kalamata olives\, tomato sauce with a touch of pesto; accompanied by the vegetables of the day \nPENNE ALLA PUTTANESCA\nFresh penne mixed in with tangy capers\, Kalamata olives\, red peppers\, & anchovy infused tomato sauce \nSPAGHETTI “CHITARRA” AMATRICIANA\nHouse-made spaghetti tossed with pancetta and onions in a spicy tomato sauce \nPESCE AL CARTOCCIO\nFish of the day cooked in parchment paper with chef’s special preparation \nDOLCI\nCHEESECAKE OR CANNOLI
URL:https://la-tavola.com/event/restaurant-week/
LOCATION:Maryland
CATEGORIES:Events
ATTACH;FMTTYPE=image/png:https://la-tavola.com/wp-content/uploads/2016/12/LaTavola_logo_blue3.png
END:VEVENT
END:VCALENDAR